BEGIN:VCALENDAR
VERSION:2.0
PRODID:-//Tukios.com/
BEGIN:VEVENT
UID:01dc767d-c948-4de6-be8d-e14b2d59fadf@www.naegelefuneralhome.com
DTSTAMP:20260420T183205Z
DTSTART:20260426T170000Z
DTEND:20260426T200000Z
SUMMARY:Celebration of Life
DESCRIPTION:
URL:https://www.naegelefuneralhome.com/obituaries/sophie-hughes
LOCATION:Fernbank Park Lodge 50 Thornton Ave  Cincinnati OH 45233
GEO:39.1202521;-84.7021437
END:VEVENT
END:VCALENDAR